BEGIN:VCALENDAR
VERSION:2.0
CALSCALE:GREGORIAN
PRODID:-//Diputació de Barcelona//DibaCMS//EN
BEGIN:VEVENT
UID:5028
DTSTAMP:20260423T041315
DTSTART:20120508T000000
DTEND:20130508T000000
SUMMARY:El Club Okinawa Team de la Llagosta aconsegueix dos campionats de Catalunya 
LOCATION:
METHOD:PUBLISH
X-WR-CALNAME:llagosta@llagosta.cat
X-WR-TIMEZONE:Europe/Madrid
DESCRIPTION:Dos membres del Club Okinawa Team de la Llagosta, Rubén Aguilera i Hamid El Houari, s'han proclamat campions de Catalunya de kick boxing amateur. Aguilera, en la categoria júnior de 64 quilos, i El Houari, en la sènior de 68 quilos. 
URI:https://www.llagosta.cat/actualitat/noticies/el-club-okinawa-team-de-la-llagosta-aconsegueix-dos-campionats-de-catalunya-.html
CLASS:PUBLIC
END:VEVENT
END:VCALENDAR
