BEGIN:VCALENDAR
VERSION:2.0
CALSCALE:GREGORIAN
PRODID:-//Diputació de Barcelona//DibaCMS//EN
BEGIN:VEVENT
UID:5027
DTSTAMP:20260422T210740
DTSTART:20120508T000000
DTEND:20130508T000000
SUMMARY:El primer equip del Club Deportivo La Concòrdia, campió de lliga de Primera Divisió
LOCATION:
METHOD:PUBLISH
X-WR-CALNAME:llagosta@llagosta.cat
X-WR-TIMEZONE:Europe/Madrid
DESCRIPTION:El primer equip del Club Deportivo La Concòrdia s'ha proclamat campió de lliga al grup 1 de la Primera Divisió després de guanyar dissabte per 13 a 0 l'IES Montserrat en un partit ajornat. Les de la nostra localitat s'han assegurat el títol quan encara falten tres jornades per acabar la competició.
URI:https://www.llagosta.cat/actualitat/noticies/el-primer-equip-del-club-deportivo-la-concordia-campio-de-lliga-de-primera-divisio.html
CLASS:PUBLIC
END:VEVENT
END:VCALENDAR
