BEGIN:VCALENDAR
VERSION:2.0
CALSCALE:GREGORIAN
PRODID:-//Diputació de Barcelona//DibaCMS//EN
BEGIN:VEVENT
UID:5026
DTSTAMP:20260423T001338
DTSTART:20120507T000000
DTEND:20130501T000000
SUMMARY:Un veí de la Llagosta, detingut per un cas de violència de gènere
LOCATION:
METHOD:PUBLISH
X-WR-CALNAME:llagosta@llagosta.cat
X-WR-TIMEZONE:Europe/Madrid
DESCRIPTION:La Policia Local de la Llagosta va detenir dissabte un veí de la nostra població acusat de violència de gènere. La detenció es va produir poc més tard de la una del migdia. 
URI:https://www.llagosta.cat/actualitat/noticies/un-vei-de-la-llagosta-detingut-per-un-cas-de-violencia-de-genere.html
CLASS:PUBLIC
END:VEVENT
END:VCALENDAR
