BEGIN:VCALENDAR
VERSION:2.0
CALSCALE:GREGORIAN
PRODID:-//Diputació de Barcelona//DibaCMS//EN
BEGIN:VEVENT
UID:5025
DTSTAMP:20260424T075532
DTSTART:20120507T000000
DTEND:20130507T000000
SUMMARY:Diputats d'ICV-EUiA consideren prioritària l'estació de mercaderies de la Llagosta
LOCATION:
METHOD:PUBLISH
X-WR-CALNAME:llagosta@llagosta.cat
X-WR-TIMEZONE:Europe/Madrid
DESCRIPTION:Iniciativa per Catalunya Verds-Esquerra Unida i Alternativa presentarà en el Parlament dues propostes que afecten al nostre municipi. La primera demanarà a la Generalitat que consideri prioritària la construcció de l'estació intermodal de mercaderies de la Llagosta i la segona donarà suport a les al·legacions presentades sobre el desdoblament de la línia ferroviària de Vic (R3).
URI:https://www.llagosta.cat/actualitat/noticies/diputats-dicv-euia-consideren-prioritaria-lestacio-de-mercaderies-de-la-llagosta.html
CLASS:PUBLIC
END:VEVENT
END:VCALENDAR
