BEGIN:VCALENDAR
VERSION:2.0
CALSCALE:GREGORIAN
PRODID:-//Diputació de Barcelona//DibaCMS//EN
BEGIN:VEVENT
UID:5024
DTSTAMP:20260422T164235
DTSTART:20120507T000000
DTEND:20130507T000000
SUMMARY:El Viejas Glorias encaixa la tercera derrota seguida contra la Peña Águilas (0-2)
LOCATION:
METHOD:PUBLISH
X-WR-CALNAME:llagosta@llagosta.cat
X-WR-TIMEZONE:Europe/Madrid
DESCRIPTION:El Club Deportivo Viejas Glorias va patir la jornada passada la tercera derrota seguida. Els llagostencs van perdre per 0 a 2 contra la Peña Águilas de Montcada. 
El Viejas Glorias va començar el partit dominant, però els visitants li van donar la volta a la situació i van tenir ocasions, que es van traduir en dos gols durant la primera part. 
URI:https://www.llagosta.cat/actualitat/noticies/el-viejas-glorias-encaixa-la-tercera-derrota-seguida-contra-la-pena-aguilas-0-2.html
CLASS:PUBLIC
END:VEVENT
END:VCALENDAR
