BEGIN:VCALENDAR
VERSION:2.0
CALSCALE:GREGORIAN
PRODID:-//Diputació de Barcelona//DibaCMS//EN
BEGIN:VEVENT
UID:5023
DTSTAMP:20260424T041216
DTSTART:20120507T000000
DTEND:20130507T000000
SUMMARY:Obert el període de preinscripció a l'Escola Bressol Municipal Cucutras de la Llagosta
LOCATION:
METHOD:PUBLISH
X-WR-CALNAME:llagosta@llagosta.cat
X-WR-TIMEZONE:Europe/Madrid
DESCRIPTION:Avui s'ha obert el període de preinscripció de l'Escola Bressol Municipal Cucutras per al curs 2012-2013. Aquest tràmit es pot realitzar fins al 18 de maig al mateix centre.
Per al proper curs, la guarderia municipal té vacants set places de 0 a 1 any; 28, d'1 a 2 i divuit, per a infants de 2 a 3 anys. 
URI:https://www.llagosta.cat/actualitat/noticies/obert-el-periode-de-preinscripcio-a-lescola-bressol-municipal-cucutras-de-la-llagosta.html
CLASS:PUBLIC
END:VEVENT
END:VCALENDAR
