BEGIN:VCALENDAR
VERSION:2.0
CALSCALE:GREGORIAN
PRODID:-//Diputació de Barcelona//DibaCMS//EN
BEGIN:VEVENT
UID:5022
DTSTAMP:20260422T182556
DTSTART:20120504T000000
DTEND:20130504T000000
SUMMARY:Aquest matí, ha estat tallada parcialment l'avinguda de l'Onze de setembre per unes obres
LOCATION:
METHOD:PUBLISH
X-WR-CALNAME:llagosta@llagosta.cat
X-WR-TIMEZONE:Europe/Madrid
DESCRIPTION:L'avinguda de l'Onze de setembre de la Llagosta, en sentit Barcelona, ha estat tallada al trànsit de vehicles aquest matí durant unes hores des de la rotonda que hi ha al límit amb Santa Perpètua de Mogoda fins al carrer de Sant Llorenç a causa d'unes obres. Els vehicles han estat desviats pel carrer de Cadaqués. El tall s'ha realitzat per tal que operaris de la Brigada Municipal d'Obres poguessin reparar una tapa de la xarxa de clavegueram que hi ha a la calçada de l'avinguda de l'Onze de setembre. 
URI:https://www.llagosta.cat/actualitat/noticies/aquest-mati-ha-estat-tallada-parcialment-lavinguda-de-lonze-de-setembre-per-unes-obres.html
CLASS:PUBLIC
END:VEVENT
END:VCALENDAR
