BEGIN:VCALENDAR
VERSION:2.0
CALSCALE:GREGORIAN
PRODID:-//Diputació de Barcelona//DibaCMS//EN
BEGIN:VEVENT
UID:5021
DTSTAMP:20260422T223943
DTSTART:20120504T000000
DTEND:20130524T000000
SUMMARY:Avui surt al carrer el Butlletí d'Informació Municipal del mes de maig
LOCATION:
METHOD:PUBLISH
X-WR-CALNAME:llagosta@llagosta.cat
X-WR-TIMEZONE:Europe/Madrid
DESCRIPTION:L'Ajuntament de la Llagosta distribueix avui el Butlletí d'Informació Municipal corresponent al mes de maig. La publicació recull les darreres notícies que ha generat el Consistori llagostenc.
URI:https://www.llagosta.cat/actualitat/noticies/avui-surt-al-carrer-el-butlleti-dinformacio-municipal-del-mes-de-maig.html
CLASS:PUBLIC
END:VEVENT
END:VCALENDAR
