BEGIN:VCALENDAR
VERSION:2.0
CALSCALE:GREGORIAN
PRODID:-//Diputació de Barcelona//DibaCMS//EN
BEGIN:VEVENT
UID:5020
DTSTAMP:20260422T204037
DTSTART:20120504T000000
DTEND:20130504T000000
SUMMARY:El sènior del Vallag celebra l'ascens amb la seva afició amb una nova victòria
LOCATION:
METHOD:PUBLISH
X-WR-CALNAME:llagosta@llagosta.cat
X-WR-TIMEZONE:Europe/Madrid
DESCRIPTION:L'Handbol Club Vallag va celebrar l'ascens a Segona Catalana davant de la seva afició amb un victòria. Els llagostencs van guanyar per 31 a 15 el Ciutat Cooperativa Centre Recreatiu de Sant Boi de Llobregat.
URI:https://www.llagosta.cat/actualitat/noticies/el-senior-del-vallag-celebra-lascens-amb-la-seva-aficio-amb-una-nova-victoria.html
CLASS:PUBLIC
END:VEVENT
END:VCALENDAR
