BEGIN:VCALENDAR
VERSION:2.0
CALSCALE:GREGORIAN
PRODID:-//Diputació de Barcelona//DibaCMS//EN
BEGIN:VEVENT
UID:5019
DTSTAMP:20260422T202014
DTSTART:20120504T000000
DTEND:20130504T000000
SUMMARY:El Parc Popular acollirà durant tot el cap de setmana la Fira de Sant Ponç
LOCATION:
METHOD:PUBLISH
X-WR-CALNAME:llagosta@llagosta.cat
X-WR-TIMEZONE:Europe/Madrid
DESCRIPTION:Aquest cap de setmana, se celebrarà a la Llagosta la tradicional Fira de Sant Ponç. Enguany hi haurà un canvi de recinte. A més, l'activitat s'ampliarà a tot el cap de setmana. La Fira de Sant Ponç es traslladarà en aquesta ocasió al Parc Popular. Fins ara, l'esdeveniment s'havia desenvolupat al passeig de l'avinguda de l'Onze de setembre. 
URI:https://www.llagosta.cat/actualitat/noticies/el-parc-popular-acollira-durant-tot-el-cap-de-setmana-la-fira-de-sant-ponc.html
CLASS:PUBLIC
END:VEVENT
END:VCALENDAR
