BEGIN:VCALENDAR
VERSION:2.0
CALSCALE:GREGORIAN
PRODID:-//Diputació de Barcelona//DibaCMS//EN
BEGIN:VEVENT
UID:5018
DTSTAMP:20260422T202123
DTSTART:20120504T000000
DTEND:20130524T000000
SUMMARY:Un centenar de nens de la Llagosta participaran en les Trobades Coaliment d'handbol
LOCATION:
METHOD:PUBLISH
X-WR-CALNAME:llagosta@llagosta.cat
X-WR-TIMEZONE:Europe/Madrid
DESCRIPTION:Més de cent nens de les quatre escoles de la Llagosta participaran en les Trobades Coaliment d'handbol de Granollers. Aquesta activitat, organitzada pel Balonmano Granollers, arriba a la seva dissetena edició i serà la tercera vegada que hi prendran part col·legis de la nostra localitat.
URI:https://www.llagosta.cat/actualitat/noticies/un-centenar-de-nens-de-la-llagosta-participaran-en-les-trobades-coaliment-dhandbol.html
CLASS:PUBLIC
END:VEVENT
END:VCALENDAR
