BEGIN:VCALENDAR
VERSION:2.0
CALSCALE:GREGORIAN
PRODID:-//Diputació de Barcelona//DibaCMS//EN
BEGIN:VEVENT
UID:5017
DTSTAMP:20260423T073143
DTSTART:20120504T000000
DTEND:20130524T000000
SUMMARY:El tercer Ral·li d'autobusos clàssics Barcelona-Caldes passarà diumenge per la Llagosta
LOCATION:
METHOD:PUBLISH
X-WR-CALNAME:llagosta@llagosta.cat
X-WR-TIMEZONE:Europe/Madrid
DESCRIPTION:Diumenge, passarà per la Llagosta el tercer Ral·li d'autobusos clàssics Barcelona-Caldes, organitzat per l'empresa Sagalés, Transports Metropolitans de Barcelona, l'Associació per a la Recuperació i Conservació d'Autobusos (ARCA) i la Fundació TMB. Els vehicles circularan per l'avinguda de l'Onze de setembre al voltant de les dotze del migdia.
URI:https://www.llagosta.cat/actualitat/noticies/el-tercer-ralli-dautobusos-classics-barcelona-caldes-passara-diumenge-per-la-llagosta.html
CLASS:PUBLIC
END:VEVENT
END:VCALENDAR
