BEGIN:VCALENDAR
VERSION:2.0
CALSCALE:GREGORIAN
PRODID:-//Diputació de Barcelona//DibaCMS//EN
BEGIN:VEVENT
UID:5016
DTSTAMP:20260423T000541
DTSTART:20120504T000000
DTEND:20130502T000000
SUMMARY:La desena Bicicletada popular per la llera recuperada del Besòs se celebrarà diumenge
LOCATION:
METHOD:PUBLISH
X-WR-CALNAME:llagosta@llagosta.cat
X-WR-TIMEZONE:Europe/Madrid
DESCRIPTION:La Diputació de Barcelona organitzarà diumenge la desena Bicicletada popular per la llera recuperada del riu Besòs, amb la col·laboració de diversos ajuntaments, entre ells el de la Llagosta. Com és habitual, la Bicicletada sortirà del Parc Firal de Granollers i acabarà al Parc Litoral de Sant Adrià de Besòs. 
URI:https://www.llagosta.cat/actualitat/noticies/la-desena-bicicletada-popular-per-la-llera-recuperada-del-besos-se-celebrara-diumenge.html
CLASS:PUBLIC
END:VEVENT
END:VCALENDAR
