BEGIN:VCALENDAR
VERSION:2.0
CALSCALE:GREGORIAN
PRODID:-//Diputació de Barcelona//DibaCMS//EN
BEGIN:VEVENT
UID:5015
DTSTAMP:20260424T022125
DTSTART:20120504T000000
DTEND:20130504T000000
SUMMARY:Demà, hi haurà un tall de llum que afectarà a alguns carrers de la nostra població
LOCATION:
METHOD:PUBLISH
X-WR-CALNAME:llagosta@llagosta.cat
X-WR-TIMEZONE:Europe/Madrid
DESCRIPTION:La companyia Fecsa-Endesa farà demà diverses millores al servei i, per aquest motiu, hi haurà un tall del subministrament elèctric entre les vuit del matí i la una del migdia que afectarà a diferents zones de la Llagosta. En concret, es tallarà el subministrament en alguns trams dels carrers de l'Estació, de Girona i del Pintor Sert. 
URI:https://www.llagosta.cat/actualitat/noticies/dema-hi-haura-un-tall-de-llum-que-afectara-a-alguns-carrers-de-la-nostra-poblacio.html
CLASS:PUBLIC
END:VEVENT
END:VCALENDAR
