BEGIN:VCALENDAR
VERSION:2.0
CALSCALE:GREGORIAN
PRODID:-//Diputació de Barcelona//DibaCMS//EN
BEGIN:VEVENT
UID:5014
DTSTAMP:20260422T221335
DTSTART:20120504T000000
DTEND:20130504T000000
SUMMARY:L'Ajuntament realitza una campanya informativa sobre el reciclatge de residus
LOCATION:
METHOD:PUBLISH
X-WR-CALNAME:llagosta@llagosta.cat
X-WR-TIMEZONE:Europe/Madrid
DESCRIPTION:L'Ajuntament de la Llagosta porta a terme fins al 12 de maig una campanya informativa per sensibilitzar la ciutadania davant la necessitat de potenciar el reciclatge de residus. Quatre persones del Consorci de residus del Vallès Oriental es dediquen durant aquests dies a visitar els comerços de la Llagosta i ofereixen explicacions al veïnat, porta a porta per diferents zones de la població, per tal d'explicar les bones pràctiques de reciclatge, fer pedagogia sobre com desfer-se de cada fracció de residus i recollir aquells suggeriments, dubtes o queixes que hi hagi sobre aquest tema.
URI:https://www.llagosta.cat/actualitat/noticies/lajuntament-realitza-una-campanya-informativa-sobre-el-reciclatge-de-residus.html
CLASS:PUBLIC
END:VEVENT
END:VCALENDAR
