BEGIN:VCALENDAR
VERSION:2.0
CALSCALE:GREGORIAN
PRODID:-//Diputació de Barcelona//DibaCMS//EN
BEGIN:VEVENT
UID:5013
DTSTAMP:20260423T093608
DTSTART:20120503T000000
DTEND:20130520T000000
SUMMARY:El 29è Concurs de Cante Jondo Ciutat de la Llagosta començarà dissabte
LOCATION:
METHOD:PUBLISH
X-WR-CALNAME:llagosta@llagosta.cat
X-WR-TIMEZONE:Europe/Madrid
DESCRIPTION:Aquesta setmana començarà el 29è Concurs de Cante Jondo Ciutat de la Llagosta, organitzat per la Casa de Andalucía de la Llagosta. La primera preliminar es farà dissabte, a les vuit del vespre, a l'antic Centre Cultural del carrer de la Florida. El certamen està dedicat a Enrique Morente. 
URI:https://www.llagosta.cat/actualitat/noticies/el-29e-concurs-de-cante-jondo-ciutat-de-la-llagosta-comencara-dissabte.html
CLASS:PUBLIC
END:VEVENT
END:VCALENDAR
