BEGIN:VCALENDAR
VERSION:2.0
CALSCALE:GREGORIAN
PRODID:-//Diputació de Barcelona//DibaCMS//EN
BEGIN:VEVENT
UID:5012
DTSTAMP:20260423T013611
DTSTART:20120503T000000
DTEND:20130503T000000
SUMMARY:El Centre Cultural acollirà dissabte el segon concert de les Jornades de música i cant coral
LOCATION:
METHOD:PUBLISH
X-WR-CALNAME:llagosta@llagosta.cat
X-WR-TIMEZONE:Europe/Madrid
DESCRIPTION:Dissabte, se celebrarà el segon i darrer concert de les setenes Jornades de música i cant coral que organitza la Coral Miranda de la Llagosta. El recital es farà al Centre Cultural de la plaça de l'Alcalde Sisó Pons i començarà a les vuit del vespre.
URI:https://www.llagosta.cat/actualitat/noticies/el-centre-cultural-acollira-dissabte-el-segon-concert-de-les-jornades-de-musica-i-cant-coral.html
CLASS:PUBLIC
END:VEVENT
END:VCALENDAR
