BEGIN:VCALENDAR
VERSION:2.0
CALSCALE:GREGORIAN
PRODID:-//Diputació de Barcelona//DibaCMS//EN
BEGIN:VEVENT
UID:5011
DTSTAMP:20260422T162241
DTSTART:20120503T000000
DTEND:20130503T000000
SUMMARY:La Concòrdia A guanya a la pista del Pony's B per 1 a 3 i segueix líder una jornada més
LOCATION:
METHOD:PUBLISH
X-WR-CALNAME:llagosta@llagosta.cat
X-WR-TIMEZONE:Europe/Madrid
DESCRIPTION:El primer equip del Club Deportivo La Concòrdia va guanyar la jornada passada per 1 a 3 a la pista del Pony's B. L'equip llagostenc va començar perdent, però va remuntar amb dos gols d'Estefa i un d'Alba.
URI:https://www.llagosta.cat/actualitat/noticies/la-concordia-a-guanya-a-la-pista-del-ponys-b-per-1-a-3-i-segueix-lider-una-jornada-mes.html
CLASS:PUBLIC
END:VEVENT
END:VCALENDAR
