BEGIN:VCALENDAR
VERSION:2.0
CALSCALE:GREGORIAN
PRODID:-//Diputació de Barcelona//DibaCMS//EN
BEGIN:VEVENT
UID:5010
DTSTAMP:20260423T203212
DTSTART:20120503T000000
DTEND:20130503T000000
SUMMARY:L'equip sènior masculí A de l'EBC de la Llagosta cau contra el Martinenc per 84 a 66
LOCATION:
METHOD:PUBLISH
X-WR-CALNAME:llagosta@llagosta.cat
X-WR-TIMEZONE:Europe/Madrid
DESCRIPTION:El sènior masculí A de l'Esportiu Bàsquet Club de la Llagosta va perdre el cap de setmana passat a la pista del Martinenc per 84 a 66. A falta de dues jornades per acabar la lliga regular, els llagostencs tanquen el seu grup amb només dos triomfs i 21 derrotes. 
URI:https://www.llagosta.cat/actualitat/noticies/lequip-senior-masculi-a-de-lebc-de-la-llagosta-cau-contra-el-martinenc-per-84-a-66.html
CLASS:PUBLIC
END:VEVENT
END:VCALENDAR
