BEGIN:VCALENDAR
VERSION:2.0
CALSCALE:GREGORIAN
PRODID:-//Diputació de Barcelona//DibaCMS//EN
BEGIN:VEVENT
UID:5009
DTSTAMP:20260424T002002
DTSTART:20120503T000000
DTEND:20130503T000000
SUMMARY:Visita demà a la Llagosta i a la comarca del grup parlamentari d'ICV-EUiA
LOCATION:
METHOD:PUBLISH
X-WR-CALNAME:llagosta@llagosta.cat
X-WR-TIMEZONE:Europe/Madrid
DESCRIPTION:El grup parlamentari d'Iniciativa per Catalunya Verds-Esquerra Unida i Alternativa visitarà demà el Vallès Oriental encapçalat per la seva portaveu, Dolors Camats, i pel diputat adscrit a la nostra comarca, Salvador Milà. Els diputats es reuniran amb les direccions comarcals dels sindicats Comissions Obreres i UGT i, posteriorment, a dos quarts d'una del migdia, vindran a la Llagosta, on visitaran els terrenys de la futura estació de mercaderies.
URI:https://www.llagosta.cat/actualitat/noticies/visita-dema-a-la-llagosta-i-a-la-comarca-del-grup-parlamentari-dicv-euia.html
CLASS:PUBLIC
END:VEVENT
END:VCALENDAR
