BEGIN:VCALENDAR
VERSION:2.0
CALSCALE:GREGORIAN
PRODID:-//Diputació de Barcelona//DibaCMS//EN
BEGIN:VEVENT
UID:5008
DTSTAMP:20260423T014715
DTSTART:20120503T000000
DTEND:20130503T000000
SUMMARY:Aprovada una proposta que insta a retornar totes les bonificacions al peatge de la Llagosta
LOCATION:
METHOD:PUBLISH
X-WR-CALNAME:llagosta@llagosta.cat
X-WR-TIMEZONE:Europe/Madrid
DESCRIPTION:En el si de la Comissió de Territori i Sostenibilitat, ahir es va aprovar una proposta de resolució parlamentària que insta al Govern de la Generalitat a retornar el 100% de les bonificacions al peatge de la Llagosta per als residents habituals. La proposta, presentada pel Partit dels Socialistes, va comptar amb el vot a favor de tots els grups parlamentaris, excepte el de Convergència i Unió, que va votar en contra. 
URI:https://www.llagosta.cat/actualitat/noticies/aprovada-una-proposta-que-insta-a-retornar-totes-les-bonificacions-al-peatge-de-la-llagosta.html
CLASS:PUBLIC
END:VEVENT
END:VCALENDAR
