BEGIN:VCALENDAR
VERSION:2.0
CALSCALE:GREGORIAN
PRODID:-//Diputació de Barcelona//DibaCMS//EN
BEGIN:VEVENT
UID:5007
DTSTAMP:20260423T035742
DTSTART:20120502T000000
DTEND:20130502T000000
SUMMARY:Ja es poden presentar obres per al Concurs del cartell de la Festa Major 2012
LOCATION:
METHOD:PUBLISH
X-WR-CALNAME:llagosta@llagosta.cat
X-WR-TIMEZONE:Europe/Madrid
DESCRIPTION:L'Ajuntament de la Llagosta ha convocat el Concurs del cartell de la Festa Major 2012. El cartell guanyador s'escollirà per votació popular. La novetat d'aquest any és que les votacions també es podran fer per internet.
URI:https://www.llagosta.cat/actualitat/noticies/ja-es-poden-presentar-obres-per-al-concurs-del-cartell-de-la-festa-major-2012.html
CLASS:PUBLIC
END:VEVENT
END:VCALENDAR
