BEGIN:VCALENDAR
VERSION:2.0
CALSCALE:GREGORIAN
PRODID:-//Diputació de Barcelona//DibaCMS//EN
BEGIN:VEVENT
UID:5006
DTSTAMP:20260423T095804
DTSTART:20120502T000000
DTEND:20130520T000000
SUMMARY:La concentració de motos de diumenge va comptar amb 25 participants
LOCATION:
METHOD:PUBLISH
X-WR-CALNAME:llagosta@llagosta.cat
X-WR-TIMEZONE:Europe/Madrid
DESCRIPTION:Unes 25 motos van participar diumenge a la concentració que es va organitzar a la Llagosta. Tot i la baixa afluència de vehicles, els promotors s'han mostrat satisfets i decidits a celebrar aquest esdeveniment el proper any.
URI:https://www.llagosta.cat/actualitat/noticies/la-concentracio-de-motos-de-diumenge-va-comptar-amb-25-participants.html
CLASS:PUBLIC
END:VEVENT
END:VCALENDAR
