BEGIN:VCALENDAR
VERSION:2.0
CALSCALE:GREGORIAN
PRODID:-//Diputació de Barcelona//DibaCMS//EN
BEGIN:VEVENT
UID:5005
DTSTAMP:20260422T170141
DTSTART:20120502T000000
DTEND:20130502T000000
SUMMARY:El Fútbol Sala Unión Llagostense jugarà el darrer partit de la lliga contra el Figueres
LOCATION:
METHOD:PUBLISH
X-WR-CALNAME:llagosta@llagosta.cat
X-WR-TIMEZONE:Europe/Madrid
DESCRIPTION:El Fútbol Sala Unión Llagostense acabarà el proper cap de setmana la lliga amb el partit que disputarà a casa contra el Figueres, després del descans de la jornada passada. Els de José Manuel Poyato ocupen la sisena posició amb 46 punts, mentre que el seu proper rival és tercer amb 56. 
URI:https://www.llagosta.cat/actualitat/noticies/el-futbol-sala-union-llagostense-jugara-el-darrer-partit-de-la-lliga-contra-el-figueres.html
CLASS:PUBLIC
END:VEVENT
END:VCALENDAR
