BEGIN:VCALENDAR
VERSION:2.0
CALSCALE:GREGORIAN
PRODID:-//Diputació de Barcelona//DibaCMS//EN
BEGIN:VEVENT
UID:5004
DTSTAMP:20260422T151424
DTSTART:20120502T000000
DTEND:20130512T000000
SUMMARY:Tres noves medalles per al Club de Judo del Gimnàs La Llagosta en campionats de Catalunya
LOCATION:
METHOD:PUBLISH
X-WR-CALNAME:llagosta@llagosta.cat
X-WR-TIMEZONE:Europe/Madrid
DESCRIPTION:El Club de Judo del Gimnàs La Llagosta va obtenir dissabte passat tres medalles, una d'or, una de plata i una de bronze, en els Campionats de Catalunya infantil i cadet, disputats a Malgrat de Mar. En concret, en la categoria infantil sub-15, Jazmín-Leah Arjona va ser primera en menys de 63 quilos, mentre que Paula Macià va obtenir la medalla de bronze en menys de 52 quilos. 
URI:https://www.llagosta.cat/actualitat/noticies/tres-noves-medalles-per-al-club-de-judo-del-gimnas-la-llagosta-en-campionats-de-catalunya.html
CLASS:PUBLIC
END:VEVENT
END:VCALENDAR
