BEGIN:VCALENDAR
VERSION:2.0
CALSCALE:GREGORIAN
PRODID:-//Diputació de Barcelona//DibaCMS//EN
BEGIN:VEVENT
UID:5003
DTSTAMP:20260422T190558
DTSTART:20120430T000000
DTEND:20130430T000000
SUMMARY:El Viejas Glorias va perdre dissabte a casa contra el Júpiter (2-3) en un gran partit
LOCATION:
METHOD:PUBLISH
X-WR-CALNAME:llagosta@llagosta.cat
X-WR-TIMEZONE:Europe/Madrid
DESCRIPTION:El Club Deportivo Viejas Glorias va perdre dissabte a casa contra el Júpiter per 2 a 3 en un gran partit. Tots els gols es van marcar a la primera part. Els visitants es van avançar, però els llagostencs van empatar. Després, el Júpiter va fer dos gols seguits i el Viejas Glorias només en va marcar un més. 
URI:https://www.llagosta.cat/actualitat/noticies/el-viejas-glorias-va-perdre-dissabte-a-casa-contra-el-jupiter-2-3-en-un-gran-partit.html
CLASS:PUBLIC
END:VEVENT
END:VCALENDAR
