BEGIN:VCALENDAR
VERSION:2.0
CALSCALE:GREGORIAN
PRODID:-//Diputació de Barcelona//DibaCMS//EN
BEGIN:VEVENT
UID:5002
DTSTAMP:20260422T162403
DTSTART:20120430T000000
DTEND:20130430T000000
SUMMARY:Demà, acte al peatge de la Llagosta en el marc de la campanya No vull pagar
LOCATION:
METHOD:PUBLISH
X-WR-CALNAME:llagosta@llagosta.cat
X-WR-TIMEZONE:Europe/Madrid
DESCRIPTION:Solidaritat Catalana per la Independència i Esquerra Republicana de Catalunya participaran demà en una acció al peatge de la Llagosta, a l'autopista C-33, en el marc de la campanya sota el lema No vull pagar. La concentració tindrà lloc a les dotze del migdia a un total de vuit barreres d'autopistes de peatge de tot Catalunya. Els convocants reclamen a la concessionària Abertis que desmantelli els peatges que consideren amortitzats. 
URI:https://www.llagosta.cat/actualitat/noticies/dema-acte-al-peatge-de-la-llagosta-en-el-marc-de-la-campanya-no-vull-pagar.html
CLASS:PUBLIC
END:VEVENT
END:VCALENDAR
