BEGIN:VCALENDAR
VERSION:2.0
CALSCALE:GREGORIAN
PRODID:-//Diputació de Barcelona//DibaCMS//EN
BEGIN:VEVENT
UID:5001
DTSTAMP:20260422T145048
DTSTART:20120430T000000
DTEND:20130430T000000
SUMMARY:L'escola de pares i mares de la Llagosta organitza un taller de jocs de faldes
LOCATION:
METHOD:PUBLISH
X-WR-CALNAME:llagosta@llagosta.cat
X-WR-TIMEZONE:Europe/Madrid
DESCRIPTION:Dimecres és el darrer dia per inscriure's al taller per aprendre a fer jocs de faldes que organitza l'Escola de pares i mares de la Llagosta amb la col·laboració de l'Ajuntament. El preu de la inscripció és de quinze euros. Les persones interessades s'han d'adreçar per la tarda al Centre Cultural i Juvenil Can Pelegrí.
URI:https://www.llagosta.cat/actualitat/noticies/lescola-de-pares-i-mares-de-la-llagosta-organitza-un-taller-de-jocs-de-faldes.html
CLASS:PUBLIC
END:VEVENT
END:VCALENDAR
