BEGIN:VCALENDAR
VERSION:2.0
CALSCALE:GREGORIAN
PRODID:-//Diputació de Barcelona//DibaCMS//EN
BEGIN:VEVENT
UID:5000
DTSTAMP:20260423T131222
DTSTART:20120430T000000
DTEND:20130430T000000
SUMMARY:La Biblioteca Municipal de la Llagosta organitza aquesta setmana diferents activitats
LOCATION:
METHOD:PUBLISH
X-WR-CALNAME:llagosta@llagosta.cat
X-WR-TIMEZONE:Europe/Madrid
DESCRIPTION:La Biblioteca Municipal de la Llagosta organitza aquesta setmana diverses activitats. Dimecres, a les quatre de la tarda, es farà el Club de lectura. En aquesta ocasió, es comentarà el llibre En el país de la nube blanca, de Sarah Larah. 
URI:https://www.llagosta.cat/actualitat/noticies/la-biblioteca-municipal-de-la-llagosta-organitza-aquesta-setmana-diferents-activitats.html
CLASS:PUBLIC
END:VEVENT
END:VCALENDAR
