BEGIN:VCALENDAR
VERSION:2.0
CALSCALE:GREGORIAN
PRODID:-//Diputació de Barcelona//DibaCMS//EN
BEGIN:VEVENT
UID:4999
DTSTAMP:20260422T235435
DTSTART:20120430T000000
DTEND:20130430T000000
SUMMARY:Suspeses les obres previstes aquet matí a l'avinguda de l'Onze de setembre
LOCATION:
METHOD:PUBLISH
X-WR-CALNAME:llagosta@llagosta.cat
X-WR-TIMEZONE:Europe/Madrid
DESCRIPTION:Les obres que s'havien de fer aquest matí per reparar una tapa de la xarxa del clavegueram situada a la calçada de l'avinguda de l'Onze de setembre han estat suspeses per la pluja. Aquesta operació obligava a tallar durant unes hores el trànsit per l'avinguda de l'Onze de setembre de la Llagosta, en sentit Barcelona. Encara no se sap el dia que es farà aquesta operació, que anirà a càrrec de la Brigada Municipal d'Obres.
URI:https://www.llagosta.cat/actualitat/noticies/suspeses-les-obres-previstes-aquet-mati-a-lavinguda-de-lonze-de-setembre.html
CLASS:PUBLIC
END:VEVENT
END:VCALENDAR
