BEGIN:VCALENDAR
VERSION:2.0
CALSCALE:GREGORIAN
PRODID:-//Diputació de Barcelona//DibaCMS//EN
BEGIN:VEVENT
UID:4998
DTSTAMP:20260423T014807
DTSTART:20120430T000000
DTEND:20130430T000000
SUMMARY:La Policia Local de la Llagosta imparteix un nou Curs d'educació viària a les escoles
LOCATION:
METHOD:PUBLISH
X-WR-CALNAME:llagosta@llagosta.cat
X-WR-TIMEZONE:Europe/Madrid
DESCRIPTION:Un total de 150 alumnes de 5è de Primària de les escoles de la nostra localitat participen aquest any en el Curs d'educació viària que organitza la Policia Local de la Llagosta. L'activitat es va iniciar el 16 d'abril i finalitzarà el 18 de maig. El curs d'educació viària arriba enguany a la 24a edició.
URI:https://www.llagosta.cat/actualitat/noticies/la-policia-local-de-la-llagosta-imparteix-un-nou-curs-deducacio-viaria-a-les-escoles.html
CLASS:PUBLIC
END:VEVENT
END:VCALENDAR
