BEGIN:VCALENDAR
VERSION:2.0
CALSCALE:GREGORIAN
PRODID:-//Diputació de Barcelona//DibaCMS//EN
BEGIN:VEVENT
UID:4997
DTSTAMP:20260423T015507
DTSTART:20120427T000000
DTEND:20120427T000000
SUMMARY:Dilluns, tall parcial del trànsit de vehicles per un tram de l'avinguda de l'Onze de setembre
LOCATION:
METHOD:PUBLISH
X-WR-CALNAME:llagosta@llagosta.cat
X-WR-TIMEZONE:Europe/Madrid
DESCRIPTION:L'avinguda de l'Onze de setembre de la Llagosta, en sentit Barcelona, estarà tallada al trànsit de vehicles dilluns des de la rotonda que hi ha al límit amb Santa Perpètua de Mogoda fins al carrer de Sant Llorenç a causa d'unes obres. Els vehicles seran desviats pel carrer de Cadaqués. El tall començarà a un quart de vuit del matí i es perllongarà durant tres hores. Durant aquest temps es procedirà a reparar una tapa de la xarxa de clavegueram que hi ha a la calçada de l'avinguda de l'Onze de setembre. 
URI:https://www.llagosta.cat/actualitat/noticies/dilluns-tall-parcial-del-transit-de-vehicles-per-un-tram-de-lavinguda-de-lonze-de-setembre.html
CLASS:PUBLIC
END:VEVENT
END:VCALENDAR
