BEGIN:VCALENDAR
VERSION:2.0
CALSCALE:GREGORIAN
PRODID:-//Diputació de Barcelona//DibaCMS//EN
BEGIN:VEVENT
UID:4996
DTSTAMP:20260423T020118
DTSTART:20120427T000000
DTEND:20130427T000000
SUMMARY:Diumenge, hi haurà una concentració de motos a la Llagosta amb un centenar de participants
LOCATION:
METHOD:PUBLISH
X-WR-CALNAME:llagosta@llagosta.cat
X-WR-TIMEZONE:Europe/Madrid
DESCRIPTION:La Llagosta acollirà diumenge una concentració de motos. S'espera que un centenar de motoristes visitin la nostra localitat. Durant el matí, hi haurà la possibilitat de veure motos de tot tipus.
URI:https://www.llagosta.cat/actualitat/noticies/diumenge-hi-haura-una-concentracio-de-motos-a-la-llagosta-amb-un-centenar-de-participants.html
CLASS:PUBLIC
END:VEVENT
END:VCALENDAR
