BEGIN:VCALENDAR
VERSION:2.0
CALSCALE:GREGORIAN
PRODID:-//Diputació de Barcelona//DibaCMS//EN
BEGIN:VEVENT
UID:4995
DTSTAMP:20260423T014520
DTSTART:20120427T000000
DTEND:20130427T000000
SUMMARY:Denunciat un individu per circular amb el carnet de conduir retirat i sense assegurança
LOCATION:
METHOD:PUBLISH
X-WR-CALNAME:llagosta@llagosta.cat
X-WR-TIMEZONE:Europe/Madrid
DESCRIPTION:La Policia Local de la Llagosta va denunciar ahir un veí de Santa Perpètua de Mogoda per circular amb el permís de conduir retirat per ordre administrativa des de l'agost de 2010 i sense assegurança del vehicle des de l'any 2005. Les diligències del cas han estat enviades al Jutjats de Mollet del Vallès per tractar-se d'un delicte contra la seguretat del trànsit. 
URI:https://www.llagosta.cat/actualitat/noticies/denunciat-un-individu-per-circular-amb-el-carnet-de-conduir-retirat-i-sense-asseguranca.html
CLASS:PUBLIC
END:VEVENT
END:VCALENDAR
