BEGIN:VCALENDAR
VERSION:2.0
CALSCALE:GREGORIAN
PRODID:-//Diputació de Barcelona//DibaCMS//EN
BEGIN:VEVENT
UID:4994
DTSTAMP:20260422T223857
DTSTART:20120427T000000
DTEND:20130426T000000
SUMMARY:El conjunt sènior del Vallag guanya a Vic i aconsegueix l'ascens a Segona Catalana
LOCATION:
METHOD:PUBLISH
X-WR-CALNAME:llagosta@llagosta.cat
X-WR-TIMEZONE:Europe/Madrid
DESCRIPTION:El sènior de l'Handbol Club Vallag jugarà la propera temporada a Segona Catalana. L'equip de la nostra localitat va sumar el cap de setmana passat els dos punts que li asseguren matemàticament l'ascens. Els llagostencs van guanyar el Vic per 16 a 30.
URI:https://www.llagosta.cat/actualitat/noticies/el-conjunt-senior-del-vallag-guanya-a-vic-i-aconsegueix-lascens-a-segona-catalana.html
CLASS:PUBLIC
END:VEVENT
END:VCALENDAR
