BEGIN:VCALENDAR
VERSION:2.0
CALSCALE:GREGORIAN
PRODID:-//Diputació de Barcelona//DibaCMS//EN
BEGIN:VEVENT
UID:4993
DTSTAMP:20260423T001321
DTSTART:20120427T000000
DTEND:20130427T000000
SUMMARY:Demà, hi haurà un show científic al Centre Cultural organitzat per l'AMPA de l'Escola Gilpe
LOCATION:
METHOD:PUBLISH
X-WR-CALNAME:llagosta@llagosta.cat
X-WR-TIMEZONE:Europe/Madrid
DESCRIPTION:El Centre Cultural acollirà demà dissabte el primer Show científic de la Llagosta, organitzat per l'AMPA de l'Escola Gilpe i els Amics de la Ciència. L'espectacle començarà a les sis de la tarda. 
URI:https://www.llagosta.cat/actualitat/noticies/dema-hi-haura-un-show-cientific-al-centre-cultural-organitzat-per-lampa-de-lescola-gilpe.html
CLASS:PUBLIC
END:VEVENT
END:VCALENDAR
