BEGIN:VCALENDAR
VERSION:2.0
CALSCALE:GREGORIAN
PRODID:-//Diputació de Barcelona//DibaCMS//EN
BEGIN:VEVENT
UID:4992
DTSTAMP:20260423T072059
DTSTART:20120427T000000
DTEND:20130427T000000
SUMMARY:Alumnes de quart de l'Escola Gilpe han visitat aquest matí l'Ajuntament de la Llagosta
LOCATION:
METHOD:PUBLISH
X-WR-CALNAME:llagosta@llagosta.cat
X-WR-TIMEZONE:Europe/Madrid
DESCRIPTION:Un grup d'estudiants de quart de Primària de l'Escola Gilpe ha visitat aquest matí diverses dependències municipals, entre elles l'Arxiu i l'Oficina d'Atenció a la Ciutadania. Els alumnes han estat acompanyats per l'alcalde, Alberto López, i la regidora d'Educació, Mireia Egea. La trobada ha finalitzat al saló de plens de l'Ajuntament, on l'alcalde ha respost les preguntes que li han formulat els joves alumnes.
URI:https://www.llagosta.cat/actualitat/noticies/alumnes-de-quart-de-lescola-gilpe-han-visitat-aquest-mati-lajuntament-de-la-llagosta.html
CLASS:PUBLIC
END:VEVENT
END:VCALENDAR
