BEGIN:VCALENDAR
VERSION:2.0
CALSCALE:GREGORIAN
PRODID:-//Diputació de Barcelona//DibaCMS//EN
BEGIN:VEVENT
UID:4991
DTSTAMP:20260422T190530
DTSTART:20120427T000000
DTEND:20130427T000000
SUMMARY:Aprovada en el ple ordinari la presentació del Pla d'Habitatge de la Llagosta 2012-2017
LOCATION:
METHOD:PUBLISH
X-WR-CALNAME:llagosta@llagosta.cat
X-WR-TIMEZONE:Europe/Madrid
DESCRIPTION:L'Ajuntament de la Llagosta va aprovar ahir la presentació del Pla Local d’Habitatge per al període 2012-2017 amb els vots a favor dels tres grups de l'equip de govern municipal (ICV-EUiA, CiU i CPLL) i l'abstenció de l'oposició (PSC i PP). Ara, s'obre un període d'exposició pública d'un mes, durant el qual es podran presentar al·legacions. 
URI:https://www.llagosta.cat/actualitat/noticies/aprovada-en-el-ple-ordinari-la-presentacio-del-pla-dhabitatge-de-la-llagosta-2012-2017.html
CLASS:PUBLIC
END:VEVENT
END:VCALENDAR
