BEGIN:VCALENDAR
VERSION:2.0
CALSCALE:GREGORIAN
PRODID:-//Diputació de Barcelona//DibaCMS//EN
BEGIN:VEVENT
UID:4990
DTSTAMP:20260422T205049
DTSTART:20120426T000000
DTEND:20130426T000000
SUMMARY:L'equip sènior masculí de l'EBC La Llagosta pateix una nova derrota contra l'Ametlla
LOCATION:
METHOD:PUBLISH
X-WR-CALNAME:llagosta@llagosta.cat
X-WR-TIMEZONE:Europe/Madrid
DESCRIPTION:El sènior masculí A de l'Esportiu Bàsquet Club la Llagosta va tornar a sumar una nova derrota el cap de setmana passat. Els llagostencs van caure per un clar 39 a 68 davant de l'Ametlla.
URI:https://www.llagosta.cat/actualitat/noticies/lequip-senior-masculi-de-lebc-la-llagosta-pateix-una-nova-derrota-contra-lametlla.html
CLASS:PUBLIC
END:VEVENT
END:VCALENDAR
