BEGIN:VCALENDAR
VERSION:2.0
CALSCALE:GREGORIAN
PRODID:-//Diputació de Barcelona//DibaCMS//EN
BEGIN:VEVENT
UID:4989
DTSTAMP:20260422T150044
DTSTART:20120426T000000
DTEND:20130426T000000
SUMMARY:Una centenar de persones van participar a la gimcana de Sant Jordi de La Llagosta + Activa
LOCATION:
METHOD:PUBLISH
X-WR-CALNAME:llagosta@llagosta.cat
X-WR-TIMEZONE:Europe/Madrid
DESCRIPTION:El grup La Llagosta + Activa ha fet un balanç positiu de la primera gimcana de Sant Jordi. L'activitat va comptar amb gairebé un centenar de participants, que durant dies van estar realitzant diverses proves i resolent enigmes per completar el mosaic que els donava dret a un obsequi.
URI:https://www.llagosta.cat/actualitat/noticies/una-centenar-de-persones-van-participar-a-la-gimcana-de-sant-jordi-de-la-llagosta--activa.html
CLASS:PUBLIC
END:VEVENT
END:VCALENDAR
