BEGIN:VCALENDAR
VERSION:2.0
CALSCALE:GREGORIAN
PRODID:-//Diputació de Barcelona//DibaCMS//EN
BEGIN:VEVENT
UID:4988
DTSTAMP:20260422T150415
DTSTART:20120426T000000
DTEND:20130426T000000
SUMMARY:Dissabte, segon aniversari de les reunions d'Alcohòlics Anònims a la Llagosta
LOCATION:
METHOD:PUBLISH
X-WR-CALNAME:llagosta@llagosta.cat
X-WR-TIMEZONE:Europe/Madrid
DESCRIPTION:Ja fa dos anys que Alcohòlics Anònims va crear un grup de suport a la Llagosta. Per commemorar el seu segon aniversari, l'entitat organitza una xerrada informativa oberta a tota la població. L'acte es farà dissabte, a les set de la tarda, al Centre Parroquial, al carrer de Sant Miquel, número 12.   
URI:https://www.llagosta.cat/actualitat/noticies/dissabte-segon-aniversari-de-les-reunions-dalcoholics-anonims-a-la-llagosta.html
CLASS:PUBLIC
END:VEVENT
END:VCALENDAR
