BEGIN:VCALENDAR
VERSION:2.0
CALSCALE:GREGORIAN
PRODID:-//Diputació de Barcelona//DibaCMS//EN
BEGIN:VEVENT
UID:4987
DTSTAMP:20260422T141727
DTSTART:20120426T000000
DTEND:20130426T000000
SUMMARY:El Pla Local d'Habitatge serà presentat aquesta tarda durant el ple ordinari d'abril
LOCATION:
METHOD:PUBLISH
X-WR-CALNAME:llagosta@llagosta.cat
X-WR-TIMEZONE:Europe/Madrid
DESCRIPTION:Avui es farà la presentació del Pla Local d'Habitatge per al període 2012-2017 durant la celebració del ple ordinari del mes d'abril, que començarà a les set de la tarda. El document, que va ser redactat durant l’anterior mandat i revisat pel nou equip de govern, serà aprovat més endavant després del període d’exposició pública. 
URI:https://www.llagosta.cat/actualitat/noticies/el-pla-local-dhabitatge-sera-presentat-aquesta-tarda-durant-el-ple-ordinari-dabril.html
CLASS:PUBLIC
END:VEVENT
END:VCALENDAR
