BEGIN:VCALENDAR
VERSION:2.0
CALSCALE:GREGORIAN
PRODID:-//Diputació de Barcelona//DibaCMS//EN
BEGIN:VEVENT
UID:4986
DTSTAMP:20260422T162953
DTSTART:20120425T000000
DTEND:20130425T000000
SUMMARY:L'assemblea del PSC de la Llagosta reescolleix Antonio Rísquez com a primer secretari
LOCATION:
METHOD:PUBLISH
X-WR-CALNAME:llagosta@llagosta.cat
X-WR-TIMEZONE:Europe/Madrid
DESCRIPTION:Antonio Rísquez ha estat reescollit primer secretari de l'Agrupació del Partit dels Socialistes de Catalunya de la Llagosta durant l'assemblea que la formació va celebrar dilluns. Rísquez encapçalava l'única candidatura que es presentava per renovar l'executiva del partit. 
URI:https://www.llagosta.cat/actualitat/noticies/lassemblea-del-psc-de-la-llagosta-reescolleix-antonio-risquez-com-a-primer-secretari.html
CLASS:PUBLIC
END:VEVENT
END:VCALENDAR
