BEGIN:VCALENDAR
VERSION:2.0
CALSCALE:GREGORIAN
PRODID:-//Diputació de Barcelona//DibaCMS//EN
BEGIN:VEVENT
UID:4985
DTSTAMP:20260422T143640
DTSTART:20120425T000000
DTEND:20130425T000000
SUMMARY:Creu Roja Mollet-Baix Vallès organitza el mes de maig un curs sobre socorrisme
LOCATION:
METHOD:PUBLISH
X-WR-CALNAME:llagosta@llagosta.cat
X-WR-TIMEZONE:Europe/Madrid
DESCRIPTION:Creu Roja Mollet-Baix Vallès organitza un curs d'Atenció Sanitària Immediata, que abans era el de socorrisme. Les inscripcions es poden fer durant aquesta setmana a la seu de l'entitat, a la plaça d'Enric Rosés, número 5, de Mollet del Vallès. 
URI:https://www.llagosta.cat/actualitat/noticies/creu-roja-mollet-baix-valles-organitza-el-mes-de-maig-un-curs-sobre-socorrisme.html
CLASS:PUBLIC
END:VEVENT
END:VCALENDAR
