BEGIN:VCALENDAR
VERSION:2.0
CALSCALE:GREGORIAN
PRODID:-//Diputació de Barcelona//DibaCMS//EN
BEGIN:VEVENT
UID:4984
DTSTAMP:20260422T055111
DTSTART:20120425T000000
DTEND:20130425T000000
SUMMARY:El Club de Judo del Gimnàs La Llagosta, campió de la Lliga Catalana Juvenil
LOCATION:
METHOD:PUBLISH
X-WR-CALNAME:llagosta@llagosta.cat
X-WR-TIMEZONE:Europe/Madrid
DESCRIPTION:El Club de Judo del Gimnàs La Llagosta s'ha proclamat campió de la Lliga Catalana Juvenil. És la primera vegada que aconsegueix aquest títol. Anteriorment, havia aconseguit alguna segona i tercera posició, però mai no havia estat campió.
URI:https://www.llagosta.cat/actualitat/noticies/el-club-de-judo-del-gimnas-la-llagosta-campio-de-la-lliga-catalana-juvenil.html
CLASS:PUBLIC
END:VEVENT
END:VCALENDAR
