BEGIN:VCALENDAR
VERSION:2.0
CALSCALE:GREGORIAN
PRODID:-//Diputació de Barcelona//DibaCMS//EN
BEGIN:VEVENT
UID:4983
DTSTAMP:20260422T141124
DTSTART:20120425T000000
DTEND:20130425T000000
SUMMARY:Victòria dels dos equips de futbol sala femení del Club Deportivo La Concòrdia
LOCATION:
METHOD:PUBLISH
X-WR-CALNAME:llagosta@llagosta.cat
X-WR-TIMEZONE:Europe/Madrid
DESCRIPTION:El primer equip del Club Deportivo La Concòrdia va derrotar la jornada passada per un contundent 13 a 0 el Vallirana B. El conjunt llagostenc va guanyar amb facilitat el penúltim classificat. Ada va marcar tres gols; Estefa, altres tres; Iris, Mireia i Alba, dos cadascuna, i Cintia, un. 
URI:https://www.llagosta.cat/actualitat/noticies/victoria-dels-dos-equips-de-futbol-sala-femeni-del-club-deportivo-la-concordia.html
CLASS:PUBLIC
END:VEVENT
END:VCALENDAR
