BEGIN:VCALENDAR
VERSION:2.0
CALSCALE:GREGORIAN
PRODID:-//Diputació de Barcelona//DibaCMS//EN
BEGIN:VEVENT
UID:4982
DTSTAMP:20260422T184327
DTSTART:20120424T000000
DTEND:20130424T000000
SUMMARY:La sala de plens va acollir ahir el lliurament de premis del concurs de l'Oficina Local de Català
LOCATION:
METHOD:PUBLISH
X-WR-CALNAME:llagosta@llagosta.cat
X-WR-TIMEZONE:Europe/Madrid
DESCRIPTION:Paqui Fernández, amb el micro-relat Moltes gràcies, ha estat la guanyadora de l'exercici-concurs organitzat per l'Oficina de Català de la Llagosta. El certamen estava obert als alumnes dels cursos de Suficiència de català de la nostra localitat.
URI:https://www.llagosta.cat/actualitat/noticies/la-sala-de-plens-va-acollir-ahir-el-lliurament-de-premis-del-concurs-de-loficina-local-de-catala.html
CLASS:PUBLIC
END:VEVENT
END:VCALENDAR
