BEGIN:VCALENDAR
VERSION:2.0
CALSCALE:GREGORIAN
PRODID:-//Diputació de Barcelona//DibaCMS//EN
BEGIN:VEVENT
UID:4981
DTSTAMP:20260422T205014
DTSTART:20120424T000000
DTEND:20130424T000000
SUMMARY:Aquest any, no hi haurà colònies de nens sahrauís a la Llagosta
LOCATION:
METHOD:PUBLISH
X-WR-CALNAME:llagosta@llagosta.cat
X-WR-TIMEZONE:Europe/Madrid
DESCRIPTION:Aquest estiu, el nostre municipi no acollirà cap infant sahrauí. La Llagosta Solidària-ACAPS no se suma aquest any al projecte Vacances en pau de la Delegació del Front Polisario a Catalunya. L'entitat de la nostra localitat té dificultats per trobar famílies que puguin acollir nens.
URI:https://www.llagosta.cat/actualitat/noticies/aquest-any-no-hi-haura-colonies-de-nens-sahrauis-a-la-llagosta.html
CLASS:PUBLIC
END:VEVENT
END:VCALENDAR
