BEGIN:VCALENDAR
VERSION:2.0
CALSCALE:GREGORIAN
PRODID:-//Diputació de Barcelona//DibaCMS//EN
BEGIN:VEVENT
UID:4980
DTSTAMP:20260423T073715
DTSTART:20120424T000000
DTEND:20130424T000000
SUMMARY:El Fútbol Sala Unión Llagostense perd a la pista del Sansur per 4 a 3
LOCATION:
METHOD:PUBLISH
X-WR-CALNAME:llagosta@llagosta.cat
X-WR-TIMEZONE:Europe/Madrid
DESCRIPTION:El Fútbol Sala Unión Llagostense va caure la jornada passada a la pista del Sansur per 4 a 3 en el penúltim partit de la lliga. Els llagostencs van viatjar amb només cinc jugadors, però ho van fer molt bé i van estar a un pas d'aconseguir un resultat positiu.
URI:https://www.llagosta.cat/actualitat/noticies/el-futbol-sala-union-llagostense-perd-a-la-pista-del-sansur-per-4-a-3.html
CLASS:PUBLIC
END:VEVENT
END:VCALENDAR
