BEGIN:VCALENDAR
VERSION:2.0
CALSCALE:GREGORIAN
PRODID:-//Diputació de Barcelona//DibaCMS//EN
BEGIN:VEVENT
UID:4979
DTSTAMP:20260422T145106
DTSTART:20120424T000000
DTEND:20130424T000000
SUMMARY:El regidor de CPLL, Adelino Macías, serà entrevistat avui a Vallès Visió
LOCATION:
METHOD:PUBLISH
X-WR-CALNAME:llagosta@llagosta.cat
X-WR-TIMEZONE:Europe/Madrid
DESCRIPTION:El regidor de Ciutadans Progressistes per la Llagosta, Adelino Macías, serà el convidat d'aquesta setmana de l'espai Parlem-ne polític del canal públic de televisió Vallès Visió. Durant el programa, que s'emetrà avui a les nou del vespre i tindrà una durada de mitja hora, es repassarà l'actualitat de les regidories que són responsabilitat d'Adelino Macías: Treball, Indústria i Formació Ocupacional, i Cooperació i Solidaritat. L'entrevista es podrà veure de nou al llarg d'aquesta setmana en diferents franges horàries. 
Veure vídeo.
URI:https://www.llagosta.cat/actualitat/noticies/el-regidor-de-cpll-adelino-macias-sera-entrevistat-avui-a-valles-visio.html
CLASS:PUBLIC
END:VEVENT
END:VCALENDAR
